BEGIN:VCALENDAR
VERSION:2.0
PRODID:-//Tukios.com/
BEGIN:VEVENT
UID:a17fd948-224f-4c63-b2fb-69e4552f66f0@www.richardsraffanddunbar.com
DTSTAMP:20260420T161751Z
DTSTART:20260424T160000Z
DTEND:20260424T170000Z
SUMMARY:Funeral Service
DESCRIPTION:
URL:https://www.richardsraffanddunbar.com/obituaries/kay-clark
LOCATION:Richards, Raff & Dunbar Memorial Home 838 E High St  Springfield 
	OH 45505
GEO:39.9215748;-83.7964615
END:VEVENT
END:VCALENDAR