BEGIN:VCALENDAR
VERSION:2.0
PRODID:-//Tukios.com/
BEGIN:VEVENT
UID:74a796b3-6caa-432a-abbc-37cea7a1855f@www.richardsraffanddunbar.com
DTSTAMP:20260420T162439Z
DTSTART:20260424T150000Z
DTEND:20260424T160000Z
SUMMARY:Visitation
DESCRIPTION:
URL:https://www.richardsraffanddunbar.com/obituaries/kay-clark
LOCATION:Richards, Raff & Dunbar Memorial Home 838 E High St  Springfield 
	OH 45505
GEO:39.9215748;-83.7964615
END:VEVENT
END:VCALENDAR