BEGIN:VCALENDAR
VERSION:2.0
PRODID:-//Tukios.com/
BEGIN:VEVENT
UID:7c818073-09f5-4673-b264-e3efbccff598@www.richardsraffanddunbar.com
DTSTAMP:20260420T210823Z
DTSTART:20260428T210000Z
DTEND:20260428T230000Z
SUMMARY:Visitation
DESCRIPTION:
URL:https://www.richardsraffanddunbar.com/obituaries/dwayne-emmons
LOCATION:Richards, Raff & Dunbar Memorial Home 838 E High St  Springfield 
	OH 45505
GEO:39.9215748;-83.7964615
END:VEVENT
END:VCALENDAR