BEGIN:VCALENDAR
VERSION:2.0
PRODID:-//Tukios.com/
BEGIN:VEVENT
UID:fd739a81-82e5-4007-a9a1-17d83d87b140@www.richardsraffanddunbar.com
DTSTAMP:20260421T224425Z
DTSTART:20260428
SUMMARY:Graveside Service
DESCRIPTION:
URL:https://www.richardsraffanddunbar.com/obituaries/david-fulgham-sr
LOCATION: 501 West McCreight Avenue  Springfield OH 45504
GEO:39.936434;-83.821766
END:VEVENT
END:VCALENDAR