BEGIN:VCALENDAR
VERSION:2.0
PRODID:-//Tukios.com/
BEGIN:VEVENT
UID:090610c0-2b0f-4508-8a22-92750a4c2f41@www.richardsraffanddunbar.com
DTSTAMP:20260421T224452Z
DTSTART:20260428T150000Z
DTEND:20260428T170000Z
SUMMARY:Visitation
DESCRIPTION:
URL:https://www.richardsraffanddunbar.com/obituaries/david-fulgham-sr
LOCATION:Trostel, Chapman, Dunbar & Fraley Funeral Home 507 W. Jefferson 
	St  New Carlisle OH 45344
GEO:39.9366406;-84.0304842
END:VEVENT
END:VCALENDAR